BEGIN:VCALENDAR
VERSION:2.0
PRODID:-//Maison de Quartier de Vernier-Village - ECPv6.0.12//NONSGML v1.0//EN
CALSCALE:GREGORIAN
METHOD:PUBLISH
X-WR-CALNAME:Maison de Quartier de Vernier-Village
X-ORIGINAL-URL:https://mqvv.ch
X-WR-CALDESC:évènements pour Maison de Quartier de Vernier-Village
REFRESH-INTERVAL;VALUE=DURATION:PT1H
X-Robots-Tag:noindex
X-PUBLISHED-TTL:PT1H
BEGIN:VTIMEZONE
TZID:Europe/Zurich
BEGIN:DAYLIGHT
TZOFFSETFROM:+0100
TZOFFSETTO:+0200
TZNAME:CEST
DTSTART:20240331T010000
END:DAYLIGHT
BEGIN:STANDARD
TZOFFSETFROM:+0200
TZOFFSETTO:+0100
TZNAME:CET
DTSTART:20241027T010000
END:STANDARD
END:VTIMEZONE
BEGIN:VEVENT
DTSTART;TZID=Europe/Zurich:20241021T080000
DTEND;TZID=Europe/Zurich:20241025T180000
DTSTAMP:20260424T180002
CREATED:20240828T090849Z
LAST-MODIFIED:20240828T090849Z
UID:30511-1729497600-1729879200@mqvv.ch
SUMMARY:Centre aéré d'octobre
DESCRIPTION:
URL:https://mqvv.ch/event/centre-aere-doctobre/
LOCATION:MQ de Vernier-Village\, Chemin de Mouille-Galand 21\, Vernier\, 1214\, Suisse
CATEGORIES:Enfants,Préados
ATTACH;FMTTYPE=image/png:https://mqvv.ch/wp-content/uploads/2024/04/Sans-titre-220-x-311-px.png
END:VEVENT
END:VCALENDAR