BEGIN:VCALENDAR
VERSION:2.0
PRODID:-//Maison de Quartier de Vernier-Village - ECPv6.0.12//NONSGML v1.0//EN
CALSCALE:GREGORIAN
METHOD:PUBLISH
X-ORIGINAL-URL:https://mqvv.ch
X-WR-CALDESC:évènements pour Maison de Quartier de Vernier-Village
REFRESH-INTERVAL;VALUE=DURATION:PT1H
X-Robots-Tag:noindex
X-PUBLISHED-TTL:PT1H
BEGIN:VTIMEZONE
TZID:Europe/Zurich
BEGIN:DAYLIGHT
TZOFFSETFROM:+0100
TZOFFSETTO:+0200
TZNAME:CEST
DTSTART:20250330T010000
END:DAYLIGHT
BEGIN:STANDARD
TZOFFSETFROM:+0200
TZOFFSETTO:+0100
TZNAME:CET
DTSTART:20251026T010000
END:STANDARD
END:VTIMEZONE
BEGIN:VEVENT
DTSTART;TZID=Europe/Zurich:20250630T080000
DTEND;TZID=Europe/Zurich:20250704T180000
DTSTAMP:20260424T010412
CREATED:20250617T094014Z
LAST-MODIFIED:20250617T094143Z
UID:30872-1751270400-1751652000@mqvv.ch
SUMMARY:Centre Aéré d'été
DESCRIPTION:
URL:https://mqvv.ch/event/ca-ete/
LOCATION:MQ de Vernier-Village\, Chemin Mouille-Galand 21\, Vernier\, 1214\, Suisse
ATTACH;FMTTYPE=image/png:https://mqvv.ch/wp-content/uploads/2024/04/Sans-titre-220-x-311-px.png
END:VEVENT
END:VCALENDAR