BEGIN:VCALENDAR
VERSION:2.0
PRODID:-//Maison de Quartier de Vernier-Village - ECPv6.0.12//NONSGML v1.0//EN
CALSCALE:GREGORIAN
METHOD:PUBLISH
X-ORIGINAL-URL:https://mqvv.ch
X-WR-CALDESC:évènements pour Maison de Quartier de Vernier-Village
REFRESH-INTERVAL;VALUE=DURATION:PT1H
X-Robots-Tag:noindex
X-PUBLISHED-TTL:PT1H
BEGIN:VTIMEZONE
TZID:Europe/Zurich
BEGIN:DAYLIGHT
TZOFFSETFROM:+0100
TZOFFSETTO:+0200
TZNAME:CEST
DTSTART:20250330T010000
END:DAYLIGHT
BEGIN:STANDARD
TZOFFSETFROM:+0200
TZOFFSETTO:+0100
TZNAME:CET
DTSTART:20251026T010000
END:STANDARD
END:VTIMEZONE
BEGIN:VEVENT
DTSTART;TZID=Europe/Zurich:20250830T100000
DTEND;TZID=Europe/Zurich:20250830T200000
DTSTAMP:20260423T191326
CREATED:20250819T131641Z
LAST-MODIFIED:20250819T131641Z
UID:30896-1756548000-1756584000@mqvv.ch
SUMMARY:Quart'île en folie
DESCRIPTION:
URL:https://mqvv.ch/event/quartile-en-folie-3/
LOCATION:MQ de Vernier-Village\, Chemin Mouille-Galand 21\, Vernier\, 1214\, Suisse
CATEGORIES:Tout public
ATTACH;FMTTYPE=image/png:https://mqvv.ch/wp-content/uploads/2025/06/2025-Recto2-scaled.png
END:VEVENT
END:VCALENDAR