BEGIN:VCALENDAR
VERSION:2.0
PRODID:-//Maison de Quartier de Vernier-Village - ECPv6.0.12//NONSGML v1.0//EN
CALSCALE:GREGORIAN
METHOD:PUBLISH
X-ORIGINAL-URL:https://mqvv.ch
X-WR-CALDESC:évènements pour Maison de Quartier de Vernier-Village
REFRESH-INTERVAL;VALUE=DURATION:PT1H
X-Robots-Tag:noindex
X-PUBLISHED-TTL:PT1H
BEGIN:VTIMEZONE
TZID:Europe/Zurich
BEGIN:DAYLIGHT
TZOFFSETFROM:+0100
TZOFFSETTO:+0200
TZNAME:CEST
DTSTART:20250330T010000
END:DAYLIGHT
BEGIN:STANDARD
TZOFFSETFROM:+0200
TZOFFSETTO:+0100
TZNAME:CET
DTSTART:20251026T010000
END:STANDARD
END:VTIMEZONE
BEGIN:VEVENT
DTSTART;TZID=Europe/Zurich:20251115T170000
DTEND;TZID=Europe/Zurich:20251115T220000
DTSTAMP:20260423T132315
CREATED:20251118T075822Z
LAST-MODIFIED:20251118T075838Z
UID:30939-1763226000-1763244000@mqvv.ch
SUMMARY:Repas du monde
DESCRIPTION:
URL:https://mqvv.ch/event/repas-du-monde/
LOCATION:MQ de Vernier-Village\, Chemin Mouille-Galand 21\, Vernier\, 1214\, Suisse
CATEGORIES:Tout public
ATTACH;FMTTYPE=image/png:https://mqvv.ch/wp-content/uploads/2025/11/Repas-du-monde.png
END:VEVENT
END:VCALENDAR