BEGIN:VCALENDAR
VERSION:2.0
PRODID:-//Maison de Quartier de Vernier-Village - ECPv6.0.12//NONSGML v1.0//EN
CALSCALE:GREGORIAN
METHOD:PUBLISH
X-ORIGINAL-URL:https://mqvv.ch
X-WR-CALDESC:évènements pour Maison de Quartier de Vernier-Village
REFRESH-INTERVAL;VALUE=DURATION:PT1H
X-Robots-Tag:noindex
X-PUBLISHED-TTL:PT1H
BEGIN:VTIMEZONE
TZID:Europe/Zurich
BEGIN:DAYLIGHT
TZOFFSETFROM:+0100
TZOFFSETTO:+0200
TZNAME:CEST
DTSTART:20240331T010000
END:DAYLIGHT
BEGIN:STANDARD
TZOFFSETFROM:+0200
TZOFFSETTO:+0100
TZNAME:CET
DTSTART:20241027T010000
END:STANDARD
END:VTIMEZONE
BEGIN:VEVENT
DTSTART;TZID=Europe/Zurich:20240502T160000
DTEND;TZID=Europe/Zurich:20240502T183000
DTSTAMP:20260425T122813
CREATED:20240426T140253Z
LAST-MODIFIED:20240426T140253Z
UID:30385-1714665600-1714674600@mqvv.ch
SUMMARY:Crêpes et film
DESCRIPTION:
URL:https://mqvv.ch/event/crepes-et-film/
LOCATION:Le Quart’île\, Chemin Mouille-Galand 21\, Vernier\, 1214\, Suisse
CATEGORIES:Tout public
ATTACH;FMTTYPE=image/png:https://mqvv.ch/wp-content/uploads/2024/04/Crepes-et-film-site-internet.png
END:VEVENT
BEGIN:VEVENT
DTSTART;TZID=Europe/Zurich:20240503T160000
DTEND;TZID=Europe/Zurich:20240503T180000
DTSTAMP:20260425T122813
CREATED:20240426T134156Z
LAST-MODIFIED:20240426T134310Z
UID:30368-1714752000-1714759200@mqvv.ch
SUMMARY:Les jeux du vendredi
DESCRIPTION:
URL:https://mqvv.ch/event/les-jeux-du-vendredi-3/
LOCATION:Le Quart’île\, Chemin Mouille-Galand 21\, Vernier\, 1214\, Suisse
CATEGORIES:Tout public
ATTACH;FMTTYPE=image/png:https://mqvv.ch/wp-content/uploads/2024/02/Affiche-jeux-e1707821543603.png
END:VEVENT
BEGIN:VEVENT
DTSTART;TZID=Europe/Zurich:20240507T160000
DTEND;TZID=Europe/Zurich:20240507T183000
DTSTAMP:20260425T122813
CREATED:20240426T143756Z
LAST-MODIFIED:20240426T144125Z
UID:30416-1715097600-1715106600@mqvv.ch
SUMMARY:Atelier couture - Doudous lapins
DESCRIPTION:
URL:https://mqvv.ch/event/atelier-couture-doudou-lapin/
LOCATION:Le Quart’île\, Chemin Mouille-Galand 21\, Vernier\, 1214\, Suisse
CATEGORIES:Tout public
ATTACH;FMTTYPE=image/png:https://mqvv.ch/wp-content/uploads/2024/04/Ateliers-couture-site-internet.png
END:VEVENT
BEGIN:VEVENT
DTSTART;TZID=Europe/Zurich:20240509T080000
DTEND;TZID=Europe/Zurich:20240510T170000
DTSTAMP:20260425T122813
CREATED:20240426T135512Z
LAST-MODIFIED:20240426T135533Z
UID:30382-1715241600-1715360400@mqvv.ch
SUMMARY:Fermeture - Pont de l'Ascension
DESCRIPTION:
URL:https://mqvv.ch/event/pont-de-lascension/
END:VEVENT
BEGIN:VEVENT
DTSTART;TZID=Europe/Zurich:20240514T160000
DTEND;TZID=Europe/Zurich:20240514T183000
DTSTAMP:20260425T122813
CREATED:20240426T143906Z
LAST-MODIFIED:20240426T143906Z
UID:30419-1715702400-1715711400@mqvv.ch
SUMMARY:Atelier couture - Pochettes en cuir
DESCRIPTION:
URL:https://mqvv.ch/event/atelier-couture-pochettes-en-cuir/
LOCATION:Le Quart’île\, Chemin Mouille-Galand 21\, Vernier\, 1214\, Suisse
CATEGORIES:Tout public
ATTACH;FMTTYPE=image/png:https://mqvv.ch/wp-content/uploads/2024/04/Ateliers-couture-site-internet.png
END:VEVENT
BEGIN:VEVENT
DTSTART;TZID=Europe/Zurich:20240516T160000
DTEND;TZID=Europe/Zurich:20240516T183000
DTSTAMP:20260425T122813
CREATED:20240426T140334Z
LAST-MODIFIED:20240426T140334Z
UID:30388-1715875200-1715884200@mqvv.ch
SUMMARY:Crêpes et film
DESCRIPTION:
URL:https://mqvv.ch/event/crepes-et-film-2/
LOCATION:Le Quart’île\, Chemin Mouille-Galand 21\, Vernier\, 1214\, Suisse
CATEGORIES:Tout public
ATTACH;FMTTYPE=image/png:https://mqvv.ch/wp-content/uploads/2024/04/Crepes-et-film-site-internet.png
END:VEVENT
BEGIN:VEVENT
DTSTART;TZID=Europe/Zurich:20240517T160000
DTEND;TZID=Europe/Zurich:20240517T180000
DTSTAMP:20260425T122813
CREATED:20240426T134816Z
LAST-MODIFIED:20240426T134915Z
UID:30370-1715961600-1715968800@mqvv.ch
SUMMARY:Les jeux du vendredi
DESCRIPTION:
URL:https://mqvv.ch/event/les-jeux-du-vendredi-4/
LOCATION:Le Quart’île\, Chemin Mouille-Galand 21\, Vernier\, 1214\, Suisse
CATEGORIES:Tout public
ATTACH;FMTTYPE=image/png:https://mqvv.ch/wp-content/uploads/2024/02/Affiche-jeux-e1707821543603.png
END:VEVENT
BEGIN:VEVENT
DTSTART;TZID=Europe/Zurich:20240521T160000
DTEND;TZID=Europe/Zurich:20240521T183000
DTSTAMP:20260425T122813
CREATED:20240426T143941Z
LAST-MODIFIED:20240426T143941Z
UID:30421-1716307200-1716316200@mqvv.ch
SUMMARY:Atelier couture - Retouches
DESCRIPTION:
URL:https://mqvv.ch/event/atelier-couture-retouches/
LOCATION:Le Quart’île\, Chemin Mouille-Galand 21\, Vernier\, 1214\, Suisse
CATEGORIES:Tout public
ATTACH;FMTTYPE=image/png:https://mqvv.ch/wp-content/uploads/2024/04/Ateliers-couture-site-internet.png
END:VEVENT
BEGIN:VEVENT
DTSTART;TZID=Europe/Zurich:20240523T160000
DTEND;TZID=Europe/Zurich:20240523T183000
DTSTAMP:20260425T122813
CREATED:20240426T140358Z
LAST-MODIFIED:20240426T140358Z
UID:30390-1716480000-1716489000@mqvv.ch
SUMMARY:Crêpes et film
DESCRIPTION:
URL:https://mqvv.ch/event/crepes-et-film-3/
LOCATION:Le Quart’île\, Chemin Mouille-Galand 21\, Vernier\, 1214\, Suisse
CATEGORIES:Tout public
ATTACH;FMTTYPE=image/png:https://mqvv.ch/wp-content/uploads/2024/04/Crepes-et-film-site-internet.png
END:VEVENT
BEGIN:VEVENT
DTSTART;TZID=Europe/Zurich:20240524T160000
DTEND;TZID=Europe/Zurich:20240524T180000
DTSTAMP:20260425T122813
CREATED:20240426T134854Z
LAST-MODIFIED:20240426T134930Z
UID:30372-1716566400-1716573600@mqvv.ch
SUMMARY:Les jeux du vendredi
DESCRIPTION:
URL:https://mqvv.ch/event/les-jeux-du-vendredi-5/
LOCATION:Le Quart’île\, Chemin Mouille-Galand 21\, Vernier\, 1214\, Suisse
CATEGORIES:Tout public
ATTACH;FMTTYPE=image/png:https://mqvv.ch/wp-content/uploads/2024/02/Affiche-jeux-e1707821543603.png
END:VEVENT
BEGIN:VEVENT
DTSTART;TZID=Europe/Zurich:20240530T160000
DTEND;TZID=Europe/Zurich:20240530T183000
DTSTAMP:20260425T122813
CREATED:20240426T140427Z
LAST-MODIFIED:20240426T140427Z
UID:30392-1717084800-1717093800@mqvv.ch
SUMMARY:Crêpes et film
DESCRIPTION:
URL:https://mqvv.ch/event/crepes-et-film-4/
LOCATION:Le Quart’île\, Chemin Mouille-Galand 21\, Vernier\, 1214\, Suisse
CATEGORIES:Tout public
ATTACH;FMTTYPE=image/png:https://mqvv.ch/wp-content/uploads/2024/04/Crepes-et-film-site-internet.png
END:VEVENT
BEGIN:VEVENT
DTSTART;TZID=Europe/Zurich:20240531T160000
DTEND;TZID=Europe/Zurich:20240531T180000
DTSTAMP:20260425T122813
CREATED:20240426T135023Z
LAST-MODIFIED:20240426T135023Z
UID:30374-1717171200-1717178400@mqvv.ch
SUMMARY:Les jeux du vendredi
DESCRIPTION:
URL:https://mqvv.ch/event/les-jeux-du-vendredi-6/
LOCATION:Le Quart’île\, Chemin Mouille-Galand 21\, Vernier\, 1214\, Suisse
CATEGORIES:Tout public
ATTACH;FMTTYPE=image/png:https://mqvv.ch/wp-content/uploads/2024/02/Affiche-jeux-e1707821543603.png
END:VEVENT
BEGIN:VEVENT
DTSTART;TZID=Europe/Zurich:20240531T183000
DTEND;TZID=Europe/Zurich:20240531T220000
DTSTAMP:20260425T122813
CREATED:20240524T172128Z
LAST-MODIFIED:20240524T172213Z
UID:30441-1717180200-1717192800@mqvv.ch
SUMMARY:Tournoi Fifa 24
DESCRIPTION:
URL:https://mqvv.ch/event/tournoi-fifa-24/
LOCATION:Le Quart’île\, Chemin Mouille-Galand 21\, Vernier\, 1214\, Suisse
CATEGORIES:Ados
ATTACH;FMTTYPE=image/png:https://mqvv.ch/wp-content/uploads/2024/05/Sorties-mai-juin-site-internet.png
END:VEVENT
END:VCALENDAR