BEGIN:VCALENDAR
VERSION:2.0
PRODID:-//Maison de Quartier de Vernier-Village - ECPv6.0.12//NONSGML v1.0//EN
CALSCALE:GREGORIAN
METHOD:PUBLISH
X-WR-CALNAME:Maison de Quartier de Vernier-Village
X-ORIGINAL-URL:https://mqvv.ch
X-WR-CALDESC:évènements pour Maison de Quartier de Vernier-Village
REFRESH-INTERVAL;VALUE=DURATION:PT1H
X-Robots-Tag:noindex
X-PUBLISHED-TTL:PT1H
BEGIN:VTIMEZONE
TZID:Europe/Zurich
BEGIN:DAYLIGHT
TZOFFSETFROM:+0100
TZOFFSETTO:+0200
TZNAME:CEST
DTSTART:20240331T010000
END:DAYLIGHT
BEGIN:STANDARD
TZOFFSETFROM:+0200
TZOFFSETTO:+0100
TZNAME:CET
DTSTART:20241027T010000
END:STANDARD
END:VTIMEZONE
BEGIN:VEVENT
DTSTART;TZID=Europe/Zurich:20241101T160000
DTEND;TZID=Europe/Zurich:20241101T220000
DTSTAMP:20260424T162506
CREATED:20241017T135717Z
LAST-MODIFIED:20241017T135717Z
UID:30579-1730476800-1730498400@mqvv.ch
SUMMARY:Le Quart'île maudit
DESCRIPTION:
URL:https://mqvv.ch/event/le-quartile-maudit-2/
LOCATION:MQ de Vernier-Village\, Chemin de Mouille-Galand 21\, Vernier\, 1214\, Suisse
CATEGORIES:Ados,Tout public
ATTACH;FMTTYPE=image/png:https://mqvv.ch/wp-content/uploads/2024/10/Affiche-Halloween.png
END:VEVENT
BEGIN:VEVENT
DTSTART;TZID=Europe/Zurich:20241111T170000
DTEND;TZID=Europe/Zurich:20241111T183000
DTSTAMP:20260424T162506
CREATED:20241017T141143Z
LAST-MODIFIED:20241017T141143Z
UID:30583-1731344400-1731349800@mqvv.ch
SUMMARY:Entraînement course à pied
DESCRIPTION:
URL:https://mqvv.ch/event/entrainement-course-a-pied/
LOCATION:MQ de Vernier-Village\, Chemin de Mouille-Galand 21\, Vernier\, 1214\, Suisse
CATEGORIES:Tout public
ATTACH;FMTTYPE=image/png:https://mqvv.ch/wp-content/uploads/2024/10/Affiche-course-a-pied-novembre.png
END:VEVENT
BEGIN:VEVENT
DTSTART;VALUE=DATE:20241116
DTEND;VALUE=DATE:20241117
DTSTAMP:20260424T162506
CREATED:20241017T130939Z
LAST-MODIFIED:20241017T131105Z
UID:30574-1731715200-1731801599@mqvv.ch
SUMMARY:Découvre la Suisse
DESCRIPTION:
URL:https://mqvv.ch/event/decouvre-la-suisse/
LOCATION:MQ de Vernier-Village\, Chemin Mouille-Galand 21\, Vernier\, 1214\, Suisse
CATEGORIES:Tout public
ATTACH;FMTTYPE=image/png:https://mqvv.ch/wp-content/uploads/2024/10/Affiche-Decouvre-la-Suisse-16-nov-2024.png
END:VEVENT
BEGIN:VEVENT
DTSTART;TZID=Europe/Zurich:20241118T170000
DTEND;TZID=Europe/Zurich:20241118T183000
DTSTAMP:20260424T162506
CREATED:20241017T141213Z
LAST-MODIFIED:20241017T141213Z
UID:30586-1731949200-1731954600@mqvv.ch
SUMMARY:Entraînement course à pied
DESCRIPTION:
URL:https://mqvv.ch/event/entrainement-course-a-pied-2/
LOCATION:MQ de Vernier-Village\, Chemin de Mouille-Galand 21\, Vernier\, 1214\, Suisse
CATEGORIES:Tout public
ATTACH;FMTTYPE=image/png:https://mqvv.ch/wp-content/uploads/2024/10/Affiche-course-a-pied-novembre.png
END:VEVENT
BEGIN:VEVENT
DTSTART;TZID=Europe/Zurich:20241125T170000
DTEND;TZID=Europe/Zurich:20241125T183000
DTSTAMP:20260424T162506
CREATED:20241017T141244Z
LAST-MODIFIED:20241017T141244Z
UID:30589-1732554000-1732559400@mqvv.ch
SUMMARY:Entraînement course à pied
DESCRIPTION:
URL:https://mqvv.ch/event/entrainement-course-a-pied-3/
LOCATION:MQ de Vernier-Village\, Chemin de Mouille-Galand 21\, Vernier\, 1214\, Suisse
CATEGORIES:Tout public
ATTACH;FMTTYPE=image/png:https://mqvv.ch/wp-content/uploads/2024/10/Affiche-course-a-pied-novembre.png
END:VEVENT
END:VCALENDAR