BEGIN:VCALENDAR
VERSION:2.0
PRODID:-//Maison de Quartier de Vernier-Village - ECPv6.0.12//NONSGML v1.0//EN
CALSCALE:GREGORIAN
METHOD:PUBLISH
X-WR-CALNAME:Maison de Quartier de Vernier-Village
X-ORIGINAL-URL:https://mqvv.ch
X-WR-CALDESC:évènements pour Maison de Quartier de Vernier-Village
REFRESH-INTERVAL;VALUE=DURATION:PT1H
X-Robots-Tag:noindex
X-PUBLISHED-TTL:PT1H
BEGIN:VTIMEZONE
TZID:Europe/Zurich
BEGIN:DAYLIGHT
TZOFFSETFROM:+0100
TZOFFSETTO:+0200
TZNAME:CEST
DTSTART:20240331T010000
END:DAYLIGHT
BEGIN:STANDARD
TZOFFSETFROM:+0200
TZOFFSETTO:+0100
TZNAME:CET
DTSTART:20241027T010000
END:STANDARD
END:VTIMEZONE
BEGIN:VEVENT
DTSTART;TZID=Europe/Zurich:20241202T170000
DTEND;TZID=Europe/Zurich:20241202T183000
DTSTAMP:20260424T130831
CREATED:20241017T141325Z
LAST-MODIFIED:20241017T141400Z
UID:30591-1733158800-1733164200@mqvv.ch
SUMMARY:Entraînement course à pied
DESCRIPTION:
URL:https://mqvv.ch/event/entrainement-course-a-pied-4/
LOCATION:MQ de Vernier-Village\, Chemin de Mouille-Galand 21\, Vernier\, 1214\, Suisse
CATEGORIES:Tout public
ATTACH;FMTTYPE=image/png:https://mqvv.ch/wp-content/uploads/2024/10/Affiche-course-a-pied-novembre.png
END:VEVENT
BEGIN:VEVENT
DTSTART;TZID=Europe/Zurich:20241203T160000
DTEND;TZID=Europe/Zurich:20241203T183000
DTSTAMP:20260424T130831
CREATED:20241126T143607Z
LAST-MODIFIED:20241126T143607Z
UID:30627-1733241600-1733250600@mqvv.ch
SUMMARY:Ateliers de l'Avent
DESCRIPTION:
URL:https://mqvv.ch/event/ateliers-de-lavent/
LOCATION:MQ de Vernier-Village\, Chemin de Mouille-Galand 21\, Vernier\, 1214\, Suisse
CATEGORIES:Tout public
ATTACH;FMTTYPE=image/png:https://mqvv.ch/wp-content/uploads/2024/11/Ateliers-de-Noel.png
END:VEVENT
BEGIN:VEVENT
DTSTART;TZID=Europe/Zurich:20241210T160000
DTEND;TZID=Europe/Zurich:20241210T183000
DTSTAMP:20260424T130831
CREATED:20241126T144106Z
LAST-MODIFIED:20241126T144106Z
UID:30633-1733846400-1733855400@mqvv.ch
SUMMARY:Ateliers de l'Avent
DESCRIPTION:
URL:https://mqvv.ch/event/ateliers-de-lavent-2/
LOCATION:MQ de Vernier-Village\, Chemin de Mouille-Galand 21\, Vernier\, 1214\, Suisse
CATEGORIES:Tout public
ATTACH;FMTTYPE=image/png:https://mqvv.ch/wp-content/uploads/2024/11/Ateliers-de-Noel.png
END:VEVENT
BEGIN:VEVENT
DTSTART;TZID=Europe/Zurich:20241217T160000
DTEND;TZID=Europe/Zurich:20241217T183000
DTSTAMP:20260424T130831
CREATED:20241126T144213Z
LAST-MODIFIED:20241126T144213Z
UID:30635-1734451200-1734460200@mqvv.ch
SUMMARY:Ateliers de l'Avent
DESCRIPTION:
URL:https://mqvv.ch/event/ateliers-de-lavent-3/
LOCATION:MQ de Vernier-Village\, Chemin de Mouille-Galand 21\, Vernier\, 1214\, Suisse
CATEGORIES:Tout public
ATTACH;FMTTYPE=image/png:https://mqvv.ch/wp-content/uploads/2024/11/Ateliers-de-Noel.png
END:VEVENT
END:VCALENDAR