BEGIN:VCALENDAR
VERSION:2.0
PRODID:-//Maison de Quartier de Vernier-Village - ECPv6.0.12//NONSGML v1.0//EN
CALSCALE:GREGORIAN
METHOD:PUBLISH
X-ORIGINAL-URL:https://mqvv.ch
X-WR-CALDESC:évènements pour Maison de Quartier de Vernier-Village
REFRESH-INTERVAL;VALUE=DURATION:PT1H
X-Robots-Tag:noindex
X-PUBLISHED-TTL:PT1H
BEGIN:VTIMEZONE
TZID:Europe/Zurich
BEGIN:DAYLIGHT
TZOFFSETFROM:+0100
TZOFFSETTO:+0200
TZNAME:CEST
DTSTART:20250330T010000
END:DAYLIGHT
BEGIN:STANDARD
TZOFFSETFROM:+0200
TZOFFSETTO:+0100
TZNAME:CET
DTSTART:20251026T010000
END:STANDARD
END:VTIMEZONE
BEGIN:VEVENT
DTSTART;TZID=Europe/Zurich:20250318T160000
DTEND;TZID=Europe/Zurich:20250318T190000
DTSTAMP:20260424T082442
CREATED:20250304T103702Z
LAST-MODIFIED:20250306T131857Z
UID:30713-1742313600-1742324400@mqvv.ch
SUMMARY:Bonhomme Hiver
DESCRIPTION:
URL:https://mqvv.ch/event/bonhomme-hiver-2/
LOCATION:Ecole des Ranches
CATEGORIES:Tout public
ATTACH;FMTTYPE=image/png:https://mqvv.ch/wp-content/uploads/2025/03/Bonhomme-Hiver-1.png
END:VEVENT
END:VCALENDAR